BEGIN:VCALENDAR
VERSION:2.0
METHOD:PUBLISH
PRODID:-//Agenda.ad//NONSGML v1.0//EN
BEGIN:VEVENT
CLASS:PUBLIC
UID:42a123e16b5ef40b8401057131ed2fb2@agenda.ad
DTSTAMP:20260424T084118Z
DTSTART:20260423T220000Z
DTEND:20260423T220000Z
SUMMARY:<span lang="FR">Xerrada 'No &eacute;s l&rsquo;altre, ets tu'&nbsp;</span>
DESCRIPTION:\n\nMés informació\nhttps://www.agenda.ad/activitat/escald
 es-engordany/conferencies/xerrada-no-es-laltre-ets-tu- \n
LOCATION:Hotel Roc Blanc
SEQUENCE:0
TRANSP:OPAQUE
X-ALT-DESC;FMTTYPE=text/html:<!DOCTYPE HTML PUBLIC "-//W3C//DTD HTML 3.2//EN"><HTML><HEAD
 ><TITLE></TITLE></HEAD><BODY><FONT FACE="Arial" SIZE=2><br/>
 <br/><b>Més informació</b><br/><a href="https://www.agenda
 .ad/activitat/escaldes-engordany/conferencies/xerrada-no-es-
 laltre-ets-tu- ">https://www.agenda.ad/activitat/escaldes-e
 ngordany/conferencies/xerrada-no-es-laltre-ets-tu- </a><br/
 ></FONT></BODY></HTML>
END:VEVENT
END:VCALENDAR